BEGIN:VCALENDAR
VERSION:2.0
PRODID:-//Mobilise-D - ECPv6.15.20//NONSGML v1.0//EN
CALSCALE:GREGORIAN
METHOD:PUBLISH
X-WR-CALNAME:Mobilise-D
X-ORIGINAL-URL:https://mobilise-d.eu
X-WR-CALDESC:Events for Mobilise-D
REFRESH-INTERVAL;VALUE=DURATION:PT1H
X-Robots-Tag:noindex
X-PUBLISHED-TTL:PT1H
BEGIN:VTIMEZONE
TZID:Europe/Oslo
BEGIN:DAYLIGHT
TZOFFSETFROM:+0100
TZOFFSETTO:+0200
TZNAME:CEST
DTSTART:20230326T010000
END:DAYLIGHT
BEGIN:STANDARD
TZOFFSETFROM:+0200
TZOFFSETTO:+0100
TZNAME:CET
DTSTART:20231029T010000
END:STANDARD
BEGIN:DAYLIGHT
TZOFFSETFROM:+0100
TZOFFSETTO:+0200
TZNAME:CEST
DTSTART:20240331T010000
END:DAYLIGHT
BEGIN:STANDARD
TZOFFSETFROM:+0200
TZOFFSETTO:+0100
TZNAME:CET
DTSTART:20241027T010000
END:STANDARD
BEGIN:DAYLIGHT
TZOFFSETFROM:+0100
TZOFFSETTO:+0200
TZNAME:CEST
DTSTART:20250330T010000
END:DAYLIGHT
BEGIN:STANDARD
TZOFFSETFROM:+0200
TZOFFSETTO:+0100
TZNAME:CET
DTSTART:20251026T010000
END:STANDARD
END:VTIMEZONE
BEGIN:VEVENT
DTSTART;TZID=Europe/Oslo:20240618T133000
DTEND;TZID=Europe/Oslo:20240618T150000
DTSTAMP:20260420T083543
CREATED:20240604T091730Z
LAST-MODIFIED:20240604T092129Z
UID:621-1718717400-1718722800@mobilise-d.eu
SUMMARY:Mobilise-D webinar presenting the Mobilise-D Analysis Pipeline and Algorithms in Python
DESCRIPTION:We are excited to announce a special live webinar to showcase the newly re-implemented and open-sourced Mobilise-D algorithms in Python. This is a unique opportunity to learn how you can run and deploy the Mobilise-D analysis pipeline on any PC using your custom data. \nThe Mobilise-D Pipeline can be used in your research and solutions in the Health Tech industry \nWebinar Highlights: \n\nSpeaker: Arne Küderle\, expert in Mobilise-D algorithms and a PhD Candidate at Machine Learning and Data Analytics Lab\, FAU Erlangen-Nürnberg\nOverview of the New Library: Understand the full capabilities of the re-implemented algorithms.\nData Processing: Learn how to process data using the full analysis pipeline or individual algorithms.\nAdvanced Use Cases: Discover advanced tooling for finetuning and evaluating implemented and custom algorithms.\n\nWhether you’re a developer\, data scientist\, or researcher\, this webinar will provide invaluable insights and practical knowledge to leverage the Mobilise-D analysis pipeline effectively. \n  \nWant to test it before the webinar? Access it here: https://github.com/mobilise-d/mobgap and open-sourced! \n  \n🔗 Register Now: https://NTNU.zoom.us/webinar/register/8417174882277/WN_X8ju3GCtROSFR4GTvl8UVg \n  \nThe webinar is online\, free\, and open to the public. You will have the possibility to interact with the Mobilise-D researchers. \nWe look forward to seeing you there and exploring the Mobilise-D results and advancements together!
URL:https://mobilise-d.eu/events/mobilise-d-webinar-presenting-the-mobilise-d-analysis-pipeline-and-algorithms-in-python/
CATEGORIES:Webinar
ATTACH;FMTTYPE=image/png:https://mobilise-d.eu/wp-content/uploads/2024/06/Webinar-series-S13-website.png
END:VEVENT
END:VCALENDAR